BEGIN:VCALENDAR
VERSION:2.0
PRODID:-//Plone.org//NONSGML plone.app.event//EN
X-WR-TIMEZONE:Brazil/East
BEGIN:VEVENT
SUMMARY:20ª Sessão Ordinária
DTSTART;TZID=Brazil/East;VALUE=DATE-TIME:20210914T180000
DTSTAMP;VALUE=DATE-TIME:20260423T120245Z
UID:e082869c54454773bd42ff3f1729e827@www.joaoneiva.es.leg.br
CREATED;VALUE=DATE-TIME:20210826T174008Z
LAST-MODIFIED;VALUE=DATE-TIME:20210826T174015Z
URL:https://www.joaoneiva.es.leg.br/institucional/eventos/20a-sessao-ordin
 aria
END:VEVENT
BEGIN:VTIMEZONE
TZID:Brazil/East
X-LIC-LOCATION:Brazil/East
BEGIN:STANDARD
DTSTART;VALUE=DATE-TIME:20210220T230000
TZNAME:BRT
TZOFFSETFROM:-0200
TZOFFSETTO:-0300
END:STANDARD
END:VTIMEZONE
END:VCALENDAR
