BEGIN:VCALENDAR
VERSION:2.0
PRODID:-//Plone.org//NONSGML plone.app.event//EN
X-WR-TIMEZONE:Brazil/East
BEGIN:VEVENT
SUMMARY:22ª Sessão Ordinária
DTSTART;TZID=Brazil/East;VALUE=DATE-TIME:20210928T180000
DTSTAMP;VALUE=DATE-TIME:20260423T135832Z
UID:24fc8c346d5b4929a59dcc2459b5e024@www.joaoneiva.es.leg.br
CREATED;VALUE=DATE-TIME:20210826T180041Z
LAST-MODIFIED;VALUE=DATE-TIME:20211005T195114Z
URL:https://www.joaoneiva.es.leg.br/institucional/eventos/23a-sessao-ordin
 aria
END:VEVENT
BEGIN:VTIMEZONE
TZID:Brazil/East
X-LIC-LOCATION:Brazil/East
BEGIN:STANDARD
DTSTART;VALUE=DATE-TIME:20210220T230000
TZNAME:BRT
TZOFFSETFROM:-0200
TZOFFSETTO:-0300
END:STANDARD
END:VTIMEZONE
END:VCALENDAR
