BEGIN:VCALENDAR
VERSION:2.0
PRODID:-//Plone.org//NONSGML plone.app.event//EN
X-WR-TIMEZONE:Brazil/East
BEGIN:VEVENT
SUMMARY:28ª Sessão Ordinária
DTSTART;TZID=Brazil/East;VALUE=DATE-TIME:20211123T180000
DTSTAMP;VALUE=DATE-TIME:20260423T135837Z
UID:c7a0004ae9d24855a34d4e749542318a@www.joaoneiva.es.leg.br
CREATED;VALUE=DATE-TIME:20210826T183727Z
LAST-MODIFIED;VALUE=DATE-TIME:20211005T195302Z
URL:https://www.joaoneiva.es.leg.br/institucional/eventos/29a-sessao-ordin
 aria
END:VEVENT
BEGIN:VTIMEZONE
TZID:Brazil/East
X-LIC-LOCATION:Brazil/East
BEGIN:DAYLIGHT
DTSTART;VALUE=DATE-TIME:20211017T010000
TZNAME:BRST
TZOFFSETFROM:-0300
TZOFFSETTO:-0200
END:DAYLIGHT
END:VTIMEZONE
END:VCALENDAR
